Package: AnVILWorkflow Version: 1.10.0 Command: rm -rf AnVILWorkflow.buildbin-libdir && mkdir AnVILWorkflow.buildbin-libdir && /Users/biocbuild/BBS/utils/build-universal.sh AnVILWorkflow_1.10.0.tar.gz /Library/Frameworks/R.framework/Resources/bin/R AnVILWorkflow.buildbin-libdir StartedAt: 2025-11-04 01:27:52 -0500 (Tue, 04 Nov 2025) EndedAt: 2025-11-04 01:28:02 -0500 (Tue, 04 Nov 2025) EllapsedTime: 9.4 seconds RetCode: 0 Status: OK PackageFile: AnVILWorkflow_1.10.0.tgz PackageFileSize: 1.016 MiB