Package: AnVILWorkflow Version: 1.9.0 Command: /Library/Frameworks/R.framework/Resources/bin/R CMD INSTALL AnVILWorkflow StartedAt: 2025-10-24 15:09:03 -0400 (Fri, 24 Oct 2025) EndedAt: 2025-10-24 15:09:08 -0400 (Fri, 24 Oct 2025) EllapsedTime: 5.1 seconds RetCode: 0 Status: OK