Package: AnVILWorkflow Version: 1.9.0 Command: /Library/Frameworks/R.framework/Resources/bin/R CMD build --keep-empty-dirs --no-resave-data AnVILWorkflow StartedAt: 2025-10-24 15:40:56 -0400 (Fri, 24 Oct 2025) EndedAt: 2025-10-24 15:41:00 -0400 (Fri, 24 Oct 2025) EllapsedTime: 4.1 seconds RetCode: 0 Status: OK PackageFile: AnVILWorkflow_1.9.0.tar.gz PackageFileSize: 1.117 MiB