Package: AnVILWorkflow Version: 1.9.0 Command: rm -rf AnVILWorkflow.buildbin-libdir && mkdir AnVILWorkflow.buildbin-libdir && /Users/biocbuild/BBS/utils/build-universal.sh AnVILWorkflow_1.9.0.tar.gz /Library/Frameworks/R.framework/Resources/bin/R AnVILWorkflow.buildbin-libdir StartedAt: 2025-10-24 22:54:10 -0400 (Fri, 24 Oct 2025) EndedAt: 2025-10-24 22:54:13 -0400 (Fri, 24 Oct 2025) EllapsedTime: 3.1 seconds RetCode: 0 Status: OK PackageFile: AnVILWorkflow_1.9.0.tgz PackageFileSize: 1.019 MiB