Package: AnVILPublish Version: 1.20.0 Command: /home/biocbuild/bbs-3.22-bioc/R/bin/R CMD INSTALL AnVILPublish StartedAt: 2025-11-02 15:15:49 -0500 (Sun, 02 Nov 2025) EndedAt: 2025-11-02 15:16:02 -0500 (Sun, 02 Nov 2025) EllapsedTime: 12.5 seconds RetCode: 0 Status: OK