Package: AnVILPublish Version: 1.20.0 Command: /home/biocbuild/bbs-3.22-bioc/R/bin/R CMD build --keep-empty-dirs --no-resave-data --md5 AnVILPublish StartedAt: 2025-11-03 16:15:46 -0500 (Mon, 03 Nov 2025) EndedAt: 2025-11-03 16:15:55 -0500 (Mon, 03 Nov 2025) EllapsedTime: 9.0 seconds RetCode: 0 Status: OK PackageFile: AnVILPublish_1.20.0.tar.gz PackageFileSize: 236.7 KiB