Package: AnVILGCP Version: 1.3.11 Command: /home/biocbuild/bbs-3.22-bioc/R/bin/R CMD INSTALL AnVILGCP StartedAt: 2025-10-24 15:19:52 -0400 (Fri, 24 Oct 2025) EndedAt: 2025-10-24 15:19:56 -0400 (Fri, 24 Oct 2025) EllapsedTime: 4.4 seconds RetCode: 0 Status: OK