Package: AnVILBase Version: 1.3.1 Command: /Library/Frameworks/R.framework/Resources/bin/R CMD INSTALL AnVILBase StartedAt: 2025-10-24 15:18:52 -0400 (Fri, 24 Oct 2025) EndedAt: 2025-10-24 15:19:23 -0400 (Fri, 24 Oct 2025) EllapsedTime: 31.1 seconds RetCode: 0 Status: OK