Package: AnVILAz Version: 1.3.1 Command: /Library/Frameworks/R.framework/Resources/bin/R CMD INSTALL AnVILAz StartedAt: 2025-10-26 15:05:13 -0400 (Sun, 26 Oct 2025) EndedAt: 2025-10-26 15:05:15 -0400 (Sun, 26 Oct 2025) EllapsedTime: 2.5 seconds RetCode: 0 Status: OK