Package: AnVILAz Version: 1.3.1 Command: /Library/Frameworks/R.framework/Resources/bin/R CMD build --keep-empty-dirs --no-resave-data AnVILAz StartedAt: 2025-10-26 15:38:32 -0400 (Sun, 26 Oct 2025) EndedAt: 2025-10-26 15:38:36 -0400 (Sun, 26 Oct 2025) EllapsedTime: 4.1 seconds RetCode: 0 Status: OK PackageFile: AnVILAz_1.3.1.tar.gz PackageFileSize: 826.1 KiB