Package: AnVIL Version: 1.21.10 Command: /home/biocbuild/bbs-3.22-bioc/R/bin/R CMD INSTALL AnVIL StartedAt: 2025-10-24 15:19:51 -0400 (Fri, 24 Oct 2025) EndedAt: 2025-10-24 15:19:56 -0400 (Fri, 24 Oct 2025) EllapsedTime: 4.7 seconds RetCode: 0 Status: OK