Package: AlpsNMR Version: 4.11.1 Command: /home/biocbuild/bbs-3.22-bioc/R/bin/R CMD INSTALL AlpsNMR StartedAt: 2025-10-24 15:20:16 -0400 (Fri, 24 Oct 2025) EndedAt: 2025-10-24 15:20:35 -0400 (Fri, 24 Oct 2025) EllapsedTime: 18.9 seconds RetCode: 0 Status: OK