Package: AlphaMissenseR Version: 1.5.5 Command: /home/biocbuild/bbs-3.22-bioc/R/bin/R CMD INSTALL AlphaMissenseR StartedAt: 2025-10-27 15:11:33 -0400 (Mon, 27 Oct 2025) EndedAt: 2025-10-27 15:11:52 -0400 (Mon, 27 Oct 2025) EllapsedTime: 19.2 seconds RetCode: 0 Status: OK