Package: AlphaMissenseR Version: 1.6.0 Command: /home/biocbuild/bbs-3.22-bioc/R/bin/R CMD check --install=check:AlphaMissenseR.install-out.txt --library=/home/biocbuild/bbs-3.22-bioc/R/site-library --timings AlphaMissenseR_1.6.0.tar.gz StartedAt: 2025-11-20 21:49:59 -0500 (Thu, 20 Nov 2025) EndedAt: 2025-11-20 21:54:44 -0500 (Thu, 20 Nov 2025) EllapsedTime: 285.2 seconds RetCode: 1 Status: ERROR CheckDir: AlphaMissenseR.Rcheck Warnings: NA