Package: AlphaMissenseR Version: 1.5.5 Command: /home/biocbuild/bbs-3.22-bioc/R/bin/R CMD build --keep-empty-dirs --no-resave-data --md5 AlphaMissenseR StartedAt: 2025-10-27 16:12:37 -0400 (Mon, 27 Oct 2025) EndedAt: 2025-10-27 16:14:42 -0400 (Mon, 27 Oct 2025) EllapsedTime: 125.1 seconds RetCode: 0 Status: OK PackageFile: AlphaMissenseR_1.5.5.tar.gz PackageFileSize: 2.736 MiB