Package: AlphaMissenseR Version: 1.6.0 Command: /Library/Frameworks/R.framework/Resources/bin/R CMD INSTALL AlphaMissenseR StartedAt: 2025-11-02 15:20:04 -0500 (Sun, 02 Nov 2025) EndedAt: 2025-11-02 15:20:41 -0500 (Sun, 02 Nov 2025) EllapsedTime: 36.9 seconds RetCode: 0 Status: OK