Package: AlphaMissenseR Version: 1.6.0 Command: /Library/Frameworks/R.framework/Resources/bin/R CMD build --keep-empty-dirs --no-resave-data AlphaMissenseR StartedAt: 2025-11-02 16:06:54 -0500 (Sun, 02 Nov 2025) EndedAt: 2025-11-02 16:09:48 -0500 (Sun, 02 Nov 2025) EllapsedTime: 173.8 seconds RetCode: 0 Status: OK PackageFile: AlphaMissenseR_1.6.0.tar.gz PackageFileSize: 2.793 MiB