Package: AlphaMissenseR Version: 1.5.5 Command: /Library/Frameworks/R.framework/Resources/bin/R CMD build --keep-empty-dirs --no-resave-data AlphaMissenseR StartedAt: 2025-10-26 15:37:06 -0400 (Sun, 26 Oct 2025) EndedAt: 2025-10-26 15:38:52 -0400 (Sun, 26 Oct 2025) EllapsedTime: 106.1 seconds RetCode: 0 Status: OK PackageFile: AlphaMissenseR_1.5.5.tar.gz PackageFileSize: 2.793 MiB