Package: AlphaMissenseR Version: 1.5.5 Command: rm -rf AlphaMissenseR.buildbin-libdir && mkdir AlphaMissenseR.buildbin-libdir && /Users/biocbuild/BBS/utils/build-universal.sh AlphaMissenseR_1.5.5.tar.gz /Library/Frameworks/R.framework/Resources/bin/R AlphaMissenseR.buildbin-libdir StartedAt: 2025-10-26 22:28:37 -0400 (Sun, 26 Oct 2025) EndedAt: 2025-10-26 22:28:41 -0400 (Sun, 26 Oct 2025) EllapsedTime: 4.1 seconds RetCode: 0 Status: OK PackageFile: AlphaMissenseR_1.5.5.tgz PackageFileSize: 2.738 MiB