Package: AlphaBeta Version: 1.24.0 Command: /Library/Frameworks/R.framework/Resources/bin/R CMD INSTALL AlphaBeta StartedAt: 2025-11-03 15:04:57 -0500 (Mon, 03 Nov 2025) EndedAt: 2025-11-03 15:05:06 -0500 (Mon, 03 Nov 2025) EllapsedTime: 9.3 seconds RetCode: 0 Status: OK