Package: AffyRNADegradation Version: 1.55.0 Command: /home/biocbuild/bbs-3.22-bioc/R/bin/R CMD INSTALL AffyRNADegradation StartedAt: 2025-10-24 15:23:21 -0400 (Fri, 24 Oct 2025) EndedAt: 2025-10-24 15:23:25 -0400 (Fri, 24 Oct 2025) EllapsedTime: 3.3 seconds RetCode: 0 Status: OK