Package: AWFisher Version: 1.24.0 Command: /Library/Frameworks/R.framework/Resources/bin/R CMD INSTALL AWFisher StartedAt: 2025-11-06 15:03:27 -0500 (Thu, 06 Nov 2025) EndedAt: 2025-11-06 15:03:36 -0500 (Thu, 06 Nov 2025) EllapsedTime: 9.2 seconds RetCode: 0 Status: OK