Package: AWFisher Version: 1.24.0 Command: rm -rf AWFisher.buildbin-libdir && mkdir AWFisher.buildbin-libdir && /Users/biocbuild/BBS/utils/build-universal.sh AWFisher_1.24.0.tar.gz /Library/Frameworks/R.framework/Resources/bin/R AWFisher.buildbin-libdir StartedAt: 2025-11-06 22:56:20 -0500 (Thu, 06 Nov 2025) EndedAt: 2025-11-06 22:56:23 -0500 (Thu, 06 Nov 2025) EllapsedTime: 3.0 seconds RetCode: 0 Status: OK PackageFile: AWFisher_1.24.0.tgz PackageFileSize: 1.439 MiB