Package: AWAggregator Version: 0.99.4 Command: /home/biocbuild/R/R/bin/R CMD INSTALL AWAggregator StartedAt: 2025-10-23 20:28:08 -0000 (Thu, 23 Oct 2025) EndedAt: 2025-10-23 20:28:37 -0000 (Thu, 23 Oct 2025) EllapsedTime: 28.8 seconds RetCode: 0 Status: OK