Package: AWAggregator Version: 0.99.4 Command: /home/biocbuild/R/R/bin/R CMD build --keep-empty-dirs --no-resave-data AWAggregator StartedAt: 2025-10-20 21:48:50 -0000 (Mon, 20 Oct 2025) EndedAt: 2025-10-20 22:16:54 -0000 (Mon, 20 Oct 2025) EllapsedTime: 1684.5 seconds RetCode: 0 Status: OK PackageFile: AWAggregator_0.99.4.tar.gz PackageFileSize: 299.3 KiB