Package: AWAggregator Version: 0.99.4 Command: /Library/Frameworks/R.framework/Resources/bin/R CMD INSTALL AWAggregator StartedAt: 2025-10-24 15:20:15 -0400 (Fri, 24 Oct 2025) EndedAt: 2025-10-24 15:20:50 -0400 (Fri, 24 Oct 2025) EllapsedTime: 35.1 seconds RetCode: 0 Status: OK