Package: AWAggregator Version: 0.99.4 Command: /Library/Frameworks/R.framework/Resources/bin/R CMD INSTALL AWAggregator StartedAt: 2025-10-24 15:08:31 -0400 (Fri, 24 Oct 2025) EndedAt: 2025-10-24 15:08:37 -0400 (Fri, 24 Oct 2025) EllapsedTime: 5.5 seconds RetCode: 0 Status: OK