Package: AWAggregator Version: 0.99.4 Command: /Library/Frameworks/R.framework/Resources/bin/R CMD build --keep-empty-dirs --no-resave-data AWAggregator StartedAt: 2025-10-24 15:42:49 -0400 (Fri, 24 Oct 2025) EndedAt: 2025-10-24 15:45:02 -0400 (Fri, 24 Oct 2025) EllapsedTime: 133.4 seconds RetCode: 0 Status: OK PackageFile: AWAggregator_0.99.4.tar.gz PackageFileSize: 273.8 KiB