Package: AWAggregator Version: 0.99.4 Command: rm -rf AWAggregator.buildbin-libdir && mkdir AWAggregator.buildbin-libdir && /Users/biocbuild/BBS/utils/build-universal.sh AWAggregator_0.99.4.tar.gz /Library/Frameworks/R.framework/Resources/bin/R AWAggregator.buildbin-libdir StartedAt: 2025-10-24 22:54:28 -0400 (Fri, 24 Oct 2025) EndedAt: 2025-10-24 22:54:32 -0400 (Fri, 24 Oct 2025) EllapsedTime: 4.1 seconds RetCode: 0 Status: OK PackageFile: AWAggregator_0.99.4.tgz PackageFileSize: 305.1 KiB