Package: AUCell Version: 1.32.0 Command: /home/biocbuild/bbs-3.22-bioc/R/bin/R CMD INSTALL AUCell StartedAt: 2025-11-25 15:55:47 -0500 (Tue, 25 Nov 2025) EndedAt: 2025-11-25 15:56:19 -0500 (Tue, 25 Nov 2025) EllapsedTime: 32.0 seconds RetCode: 0 Status: OK