Package: ATACseqTFEA Version: 1.11.1 Command: /home/biocbuild/bbs-3.22-bioc/R/bin/R CMD INSTALL ATACseqTFEA StartedAt: 2025-10-24 16:04:05 -0400 (Fri, 24 Oct 2025) EndedAt: 2025-10-24 16:04:46 -0400 (Fri, 24 Oct 2025) EllapsedTime: 41.1 seconds RetCode: 0 Status: OK