Package: ATACseqTFEA Version: 1.11.1 Command: /home/biocbuild/bbs-3.22-bioc/R/bin/R CMD build --keep-empty-dirs --no-resave-data --md5 ATACseqTFEA StartedAt: 2025-10-24 16:25:21 -0400 (Fri, 24 Oct 2025) EndedAt: 2025-10-24 16:27:08 -0400 (Fri, 24 Oct 2025) EllapsedTime: 107.1 seconds RetCode: 0 Status: OK PackageFile: ATACseqTFEA_1.11.1.tar.gz PackageFileSize: 4.472 MiB