Package: ATACseqTFEA Version: 1.12.0 Command: /Library/Frameworks/R.framework/Resources/bin/R CMD build --keep-empty-dirs --no-resave-data ATACseqTFEA StartedAt: 2025-11-10 15:39:06 -0500 (Mon, 10 Nov 2025) EndedAt: 2025-11-10 15:39:47 -0500 (Mon, 10 Nov 2025) EllapsedTime: 40.4 seconds RetCode: 0 Status: OK PackageFile: ATACseqTFEA_1.12.0.tar.gz PackageFileSize: 4.412 MiB