Package: ATACseqQC Version: 1.33.1 Command: /home/biocbuild/bbs-3.22-bioc/R/bin/R CMD INSTALL ATACseqQC StartedAt: 2025-10-24 16:06:18 -0400 (Fri, 24 Oct 2025) EndedAt: 2025-10-24 16:07:13 -0400 (Fri, 24 Oct 2025) EllapsedTime: 55.7 seconds RetCode: 0 Status: OK