Package: ATACseqQC Version: 1.33.1 Command: /Library/Frameworks/R.framework/Resources/bin/R CMD INSTALL ATACseqQC StartedAt: 2025-10-24 15:30:40 -0400 (Fri, 24 Oct 2025) EndedAt: 2025-10-24 15:31:04 -0400 (Fri, 24 Oct 2025) EllapsedTime: 23.7 seconds RetCode: 0 Status: OK