Package: ATACseqQC Version: 1.33.1 Command: /Library/Frameworks/R.framework/Resources/bin/R CMD build --keep-empty-dirs --no-resave-data ATACseqQC StartedAt: 2025-10-24 15:41:52 -0400 (Fri, 24 Oct 2025) EndedAt: 2025-10-24 15:43:27 -0400 (Fri, 24 Oct 2025) EllapsedTime: 95.0 seconds RetCode: 0 Status: OK PackageFile: ATACseqQC_1.33.1.tar.gz PackageFileSize: 14.79 MiB