Package: ASpli Version: 2.19.0 Command: /home/biocbuild/bbs-3.22-bioc/R/bin/R CMD INSTALL ASpli StartedAt: 2025-10-27 15:53:30 -0400 (Mon, 27 Oct 2025) EndedAt: 2025-10-27 15:54:32 -0400 (Mon, 27 Oct 2025) EllapsedTime: 61.9 seconds RetCode: 0 Status: OK