Package: ASURAT Version: 1.13.1 Command: /home/biocbuild/bbs-3.22-bioc/R/bin/R CMD INSTALL ASURAT StartedAt: 2025-10-24 15:34:19 -0400 (Fri, 24 Oct 2025) EndedAt: 2025-10-24 15:34:50 -0400 (Fri, 24 Oct 2025) EllapsedTime: 31.1 seconds RetCode: 0 Status: OK