Package: ASURAT Version: 1.13.1 Command: /home/biocbuild/bbs-3.22-bioc/R/bin/R CMD build --keep-empty-dirs --no-resave-data --md5 ASURAT StartedAt: 2025-10-24 16:25:18 -0400 (Fri, 24 Oct 2025) EndedAt: 2025-10-24 16:37:37 -0400 (Fri, 24 Oct 2025) EllapsedTime: 739.5 seconds RetCode: 0 Status: OK PackageFile: ASURAT_1.13.1.tar.gz PackageFileSize: 1.636 MiB