Package: ASSIGN Version: 1.45.0 Command: /home/biocbuild/bbs-3.22-bioc/R/bin/R CMD INSTALL ASSIGN StartedAt: 2025-10-24 15:39:29 -0400 (Fri, 24 Oct 2025) EndedAt: 2025-10-24 15:39:32 -0400 (Fri, 24 Oct 2025) EllapsedTime: 3.2 seconds RetCode: 0 Status: OK