Package: ASICS Version: 2.25.0 Command: /Library/Frameworks/R.framework/Resources/bin/R CMD INSTALL ASICS StartedAt: 2025-10-24 15:30:03 -0400 (Fri, 24 Oct 2025) EndedAt: 2025-10-24 15:30:49 -0400 (Fri, 24 Oct 2025) EllapsedTime: 46.1 seconds RetCode: 0 Status: OK