Package: ASICS Version: 2.25.0 Command: rm -rf ASICS.buildbin-libdir && mkdir ASICS.buildbin-libdir && /Users/biocbuild/BBS/utils/build-universal.sh ASICS_2.25.0.tar.gz /Library/Frameworks/R.framework/Resources/bin/R ASICS.buildbin-libdir StartedAt: 2025-10-25 01:28:06 -0400 (Sat, 25 Oct 2025) EndedAt: 2025-10-25 01:28:58 -0400 (Sat, 25 Oct 2025) EllapsedTime: 51.6 seconds RetCode: 0 Status: OK PackageFile: ASICS_2.25.0.tgz PackageFileSize: 4.125 MiB