Package: ASICS Version: 2.25.0 Command: /Library/Frameworks/R.framework/Resources/bin/R CMD build --keep-empty-dirs --no-resave-data ASICS StartedAt: 2025-10-24 15:41:40 -0400 (Fri, 24 Oct 2025) EndedAt: 2025-10-24 15:43:15 -0400 (Fri, 24 Oct 2025) EllapsedTime: 95.0 seconds RetCode: 0 Status: OK PackageFile: ASICS_2.25.0.tar.gz PackageFileSize: 3.581 MiB