Package: ASGSCA Version: 1.43.0 Command: /home/biocbuild/bbs-3.22-bioc/R/bin/R CMD INSTALL ASGSCA StartedAt: 2025-10-24 15:15:39 -0400 (Fri, 24 Oct 2025) EndedAt: 2025-10-24 15:15:43 -0400 (Fri, 24 Oct 2025) EllapsedTime: 4.3 seconds RetCode: 0 Status: OK