Package: ASGSCA Version: 1.43.0 Command: /home/biocbuild/bbs-3.22-bioc/R/bin/R CMD build --keep-empty-dirs --no-resave-data --md5 ASGSCA StartedAt: 2025-10-24 16:24:49 -0400 (Fri, 24 Oct 2025) EndedAt: 2025-10-24 16:27:25 -0400 (Fri, 24 Oct 2025) EllapsedTime: 156.1 seconds RetCode: 0 Status: OK PackageFile: ASGSCA_1.43.0.tar.gz PackageFileSize: 1.294 MiB