Package: ASGSCA Version: 1.44.0 Command: /Library/Frameworks/R.framework/Resources/bin/R CMD INSTALL ASGSCA StartedAt: 2025-11-03 15:11:58 -0500 (Mon, 03 Nov 2025) EndedAt: 2025-11-03 15:12:25 -0500 (Mon, 03 Nov 2025) EllapsedTime: 27.6 seconds RetCode: 0 Status: OK