Package: ASGSCA Version: 1.44.0 Command: /Library/Frameworks/R.framework/Resources/bin/R CMD build --keep-empty-dirs --no-resave-data ASGSCA StartedAt: 2025-11-03 16:04:58 -0500 (Mon, 03 Nov 2025) EndedAt: 2025-11-03 16:07:44 -0500 (Mon, 03 Nov 2025) EllapsedTime: 166.6 seconds RetCode: 0 Status: OK PackageFile: ASGSCA_1.44.0.tar.gz PackageFileSize: 1.292 MiB