Package: ASGSCA Version: 1.43.0 Command: /Library/Frameworks/R.framework/Resources/bin/R CMD INSTALL ASGSCA StartedAt: 2025-10-24 15:05:38 -0400 (Fri, 24 Oct 2025) EndedAt: 2025-10-24 15:05:41 -0400 (Fri, 24 Oct 2025) EllapsedTime: 2.9 seconds RetCode: 0 Status: OK