Package: ASEB Version: 1.53.0 Command: rm -rf ASEB.buildbin-libdir && mkdir ASEB.buildbin-libdir && /Users/biocbuild/BBS/utils/build-universal.sh ASEB_1.53.0.tar.gz /Library/Frameworks/R.framework/Resources/bin/R ASEB.buildbin-libdir StartedAt: 2025-10-26 22:29:02 -0400 (Sun, 26 Oct 2025) EndedAt: 2025-10-26 22:29:05 -0400 (Sun, 26 Oct 2025) EllapsedTime: 3.0 seconds RetCode: 0 Status: OK PackageFile: ASEB_1.53.0.tgz PackageFileSize: 778.5 KiB