Package: ARRmNormalization Version: 1.49.0 Command: /Library/Frameworks/R.framework/Resources/bin/R CMD build --keep-empty-dirs --no-resave-data ARRmNormalization StartedAt: 2025-10-24 15:41:28 -0400 (Fri, 24 Oct 2025) EndedAt: 2025-10-24 15:41:43 -0400 (Fri, 24 Oct 2025) EllapsedTime: 15.2 seconds RetCode: 0 Status: OK PackageFile: ARRmNormalization_1.49.0.tar.gz PackageFileSize: 1.075 MiB